BEGIN:VCALENDAR
VERSION:2.0
PRODID:-//wp-events-plugin.com//7.2.3.1//EN
TZID:Europe/London
X-WR-TIMEZONE:Europe/London
BEGIN:VEVENT
UID:6777@eastgatearts.com
DTSTART;TZID=Europe/London:20261006T193000
DTEND;TZID=Europe/London:20261006T213000
DTSTAMP:20260311T140244Z
URL:https://eastgatearts.com/events/jordan-wylie-finding-purpose/
SUMMARY:Jordan Wylie - Finding Purpose
DESCRIPTION:Jordan’s expeditions have taken him across all seven continen
 ts and to over 150 countries\, from running the coldest marathons on Earth
 \, to rowing across the world’s most dangerous waters\, summiting unclim
 bed peaks\, and attempting to be the first person to paddleboard around Br
 itain to name just a few of his intrepid adventures.
ATTACH;FMTTYPE=image/jpeg:https://eastgatearts.com/wp-content/uploads/2026
 /03/JW-MAIN-scaled.jpg
CATEGORIES:Talk
END:VEVENT
BEGIN:VTIMEZONE
TZID:Europe/London
X-LIC-LOCATION:Europe/London
BEGIN:DAYLIGHT
DTSTART:20260329T020000
TZOFFSETFROM:+0000
TZOFFSETTO:+0100
TZNAME:BST
END:DAYLIGHT
END:VTIMEZONE
END:VCALENDAR