BEGIN:VCALENDAR
VERSION:2.0
PRODID:-//wp-events-plugin.com//7.2.3.1//EN
TZID:Europe/London
X-WR-TIMEZONE:Europe/London
BEGIN:VEVENT
UID:5345@eastgatearts.com
DTSTART;TZID=Europe/London:20240202T190000
DTEND;TZID=Europe/London:20240202T220000
DTSTAMP:20240201T170613Z
URL:https://eastgatearts.com/events/jazz-nights-in-the-cafe/
SUMMARY:Jazz Night in the Cafe
DESCRIPTION:Enjoy swinging tunes and delicious wines. This non ticketed eve
 nt. can be booked by contacting Erin on events@eastgatearts.com
ATTACH;FMTTYPE=image/jpeg:https://eastgatearts.com/wp-content/uploads/2024
 /02/Jazz-2-845.jpg
CATEGORIES:Music
END:VEVENT
BEGIN:VTIMEZONE
TZID:Europe/London
X-LIC-LOCATION:Europe/London
BEGIN:STANDARD
DTSTART:20231029T010000
TZOFFSETFROM:+0100
TZOFFSETTO:+0000
TZNAME:GMT
END:STANDARD
END:VTIMEZONE
END:VCALENDAR