BEGIN:VCALENDAR
VERSION:2.0
PRODID:-//wp-events-plugin.com//7.2.3.1//EN
TZID:Europe/London
X-WR-TIMEZONE:Europe/London
BEGIN:VEVENT
UID:5835@eastgatearts.com
DTSTART;TZID=Europe/London:20241221T100000
DTEND;TZID=Europe/London:20241221T130000
DTSTAMP:20241213T124840Z
URL:https://eastgatearts.com/events/jazz-dance-workshop-dec/
SUMMARY:Jazz Dance Workshop (Dec)
DESCRIPTION:Enjoy rhythmic music?\, take this one off opportunity to laugh 
 and build strength ready for the festive season.
ATTACH;FMTTYPE=image/jpeg:https://eastgatearts.com/wp-content/uploads/2024
 /11/jazz-dance-take-part-2024.jpg
CATEGORIES:Dance with Sara Boles,Take Part
END:VEVENT
BEGIN:VTIMEZONE
TZID:Europe/London
X-LIC-LOCATION:Europe/London
BEGIN:STANDARD
DTSTART:20241027T010000
TZOFFSETFROM:+0100
TZOFFSETTO:+0000
TZNAME:GMT
END:STANDARD
END:VTIMEZONE
END:VCALENDAR