BEGIN:VCALENDAR
VERSION:2.0
PRODID:-//wp-events-plugin.com//7.2.3.1//EN
TZID:Europe/London
X-WR-TIMEZONE:Europe/London
BEGIN:VEVENT
UID:5979@eastgatearts.com
DTSTART;TZID=Europe/London:20250314T120000
DTEND;TZID=Europe/London:20250411T130000
DTSTAMP:20241213T113945Z
URL:https://eastgatearts.com/events/jazz-dance-fridays-session-2-7/
SUMMARY:Jazz Dance (Fridays) Session 2
DESCRIPTION:Sara Boles leads a class built around rhythmic music.  Take thi
 s opportunity to build strength and fitness (and laugh) week by week.
ATTACH;FMTTYPE=image/jpeg:https://eastgatearts.com/wp-content/uploads/2024
 /11/jazz-dance-take-part-2024.jpg
CATEGORIES:Dance with Sara Boles,Take Part
END:VEVENT
BEGIN:VTIMEZONE
TZID:Europe/London
X-LIC-LOCATION:Europe/London
BEGIN:STANDARD
DTSTART:20241027T010000
TZOFFSETFROM:+0100
TZOFFSETTO:+0000
TZNAME:GMT
END:STANDARD
BEGIN:DAYLIGHT
DTSTART:20250330T020000
TZOFFSETFROM:+0000
TZOFFSETTO:+0100
TZNAME:BST
END:DAYLIGHT
END:VTIMEZONE
END:VCALENDAR