BEGIN:VCALENDAR
VERSION:2.0
PRODID:-//wp-events-plugin.com//7.2.3.1//EN
TZID:Europe/London
X-WR-TIMEZONE:Europe/London
BEGIN:VEVENT
UID:6161@eastgatearts.com
DTSTART;TZID=Europe/London:20250530T105000
DTEND;TZID=Europe/London:20250627T115000
DTSTAMP:20250404T120627Z
URL:https://eastgatearts.com/events/jazz-dance-fridays-session-1-spring-bl
 ock-2/
SUMMARY:Jazz Dance (Fridays) Session 1 - Spring Block 2
DESCRIPTION:Sara Boles leads a class built around rhythmic music. Take this
  opportunity to build strength and fitness (and laugh) week by week.
ATTACH;FMTTYPE=image/jpeg:https://eastgatearts.com/wp-content/uploads/2025
 /03/fb65dcb9-8d7d-4202-820c-8dcaa46471f9.jpg
CATEGORIES:Dance with Sara Boles,Take Part
END:VEVENT
BEGIN:VTIMEZONE
TZID:Europe/London
X-LIC-LOCATION:Europe/London
BEGIN:DAYLIGHT
DTSTART:20250330T020000
TZOFFSETFROM:+0000
TZOFFSETTO:+0100
TZNAME:BST
END:DAYLIGHT
END:VTIMEZONE
END:VCALENDAR