BEGIN:VCALENDAR
VERSION:2.0
PRODID:-//wp-events-plugin.com//7.2.3.1//EN
TZID:Europe/London
X-WR-TIMEZONE:Europe/London
BEGIN:VEVENT
UID:5775@eastgatearts.com
DTSTART;TZID=Europe/London:20240909T180000
DTEND;TZID=Europe/London:20241007T190000
DTSTAMP:20240831T134454Z
URL:https://eastgatearts.com/events/introduction-to-ballet-4/
SUMMARY:Introduction to Ballet
DESCRIPTION:Learn all the fundamentals you need to begin to develop your te
 chnique and expressiveness.
ATTACH;FMTTYPE=image/jpeg:https://eastgatearts.com/wp-content/uploads/2023
 /12/Ballet-845.jpg
CATEGORIES:Take Part
END:VEVENT
BEGIN:VTIMEZONE
TZID:Europe/London
X-LIC-LOCATION:Europe/London
BEGIN:DAYLIGHT
DTSTART:20240331T020000
TZOFFSETFROM:+0000
TZOFFSETTO:+0100
TZNAME:BST
END:DAYLIGHT
END:VTIMEZONE
END:VCALENDAR