BEGIN:VCALENDAR
VERSION:2.0
PRODID:-//wp-events-plugin.com//7.2.3.1//EN
TZID:Europe/London
X-WR-TIMEZONE:Europe/London
BEGIN:VEVENT
UID:5844@eastgatearts.com
DTSTART;TZID=Europe/London:20241107T190000
DTEND;TZID=Europe/London:20241107T200000
DTSTAMP:20241007T122247Z
URL:https://eastgatearts.com/events/intro-to-tap-thursdays/
SUMMARY:Intro to Tap (Thursdays)
DESCRIPTION:Sara Boles leads a high energy and fun intro to tap class. Lear
 n the basics and develop your foundation while finding out what the body c
 an be persuaded to do. This class is bookable in a 4 week block and is run
 ning Thu 7 Nov - Thu 28 Nov.
ATTACH;FMTTYPE=image/jpeg:https://eastgatearts.com/wp-content/uploads/2024
 /06/Tap-Shoes-CloseUp.jpg
CATEGORIES:Take Part
END:VEVENT
BEGIN:VTIMEZONE
TZID:Europe/London
X-LIC-LOCATION:Europe/London
BEGIN:STANDARD
DTSTART:20241027T010000
TZOFFSETFROM:+0100
TZOFFSETTO:+0000
TZNAME:GMT
END:STANDARD
END:VTIMEZONE
END:VCALENDAR