BEGIN:VCALENDAR
VERSION:2.0
PRODID:-//wp-events-plugin.com//7.2.3.1//EN
TZID:Europe/London
X-WR-TIMEZONE:Europe/London
BEGIN:VEVENT
UID:6118@eastgatearts.com
DTSTART;TZID=Europe/London:20250517T101500
DTEND;TZID=Europe/London:20250517T110000
DTSTAMP:20250512T112514Z
URL:https://eastgatearts.com/events/inspiring-life-day-hand-drumming-works
 hop/
SUMMARY:Inspiring Life Day: Hand Drumming Workshop
DESCRIPTION:Explore Latin American rhythms on hand drums\, suitable for all
  levels. Join us to experience the uplifting power of group music! 
ATTACH;FMTTYPE=image/jpeg:https://eastgatearts.com/wp-content/uploads/2024
 /09/drums-845.jpg
CATEGORIES:Festival,Inspiring Life,Music,Take Part,Workshops
END:VEVENT
BEGIN:VTIMEZONE
TZID:Europe/London
X-LIC-LOCATION:Europe/London
BEGIN:DAYLIGHT
DTSTART:20250330T020000
TZOFFSETFROM:+0000
TZOFFSETTO:+0100
TZNAME:BST
END:DAYLIGHT
END:VTIMEZONE
END:VCALENDAR