BEGIN:VCALENDAR
VERSION:2.0
PRODID:-//wp-events-plugin.com//7.2.3.1//EN
TZID:Europe/London
X-WR-TIMEZONE:Europe/London
BEGIN:VEVENT
UID:6122@eastgatearts.com
DTSTART;TZID=Europe/London:20250517T143000
DTEND;TZID=Europe/London:20250517T163000
DTSTAMP:20250318T120425Z
URL:https://eastgatearts.com/events/inspiring-life-2025-finale/
SUMMARY:Inspiring Life 2025 Finale
DESCRIPTION:Join us for the grand finale of the Inspiring Life Festival\, w
 here all workshops and activities culminate in a special sharing. Whether 
 you participated in one event or many\, come witness the power of creative
  expression and the theme of 'Difficult Conversations\,' celebrating growt
 h\, connection\, and positive change through art.
ATTACH;FMTTYPE=image/jpeg:https://eastgatearts.com/wp-content/uploads/2025
 /03/PG12-IMAGE-Inspiring-Life-Art-Asset-copy-1.jpg
CATEGORIES:Art,Dance,Festival,Inspiring Life,Talk,Theatre
END:VEVENT
BEGIN:VTIMEZONE
TZID:Europe/London
X-LIC-LOCATION:Europe/London
BEGIN:DAYLIGHT
DTSTART:20250330T020000
TZOFFSETFROM:+0000
TZOFFSETTO:+0100
TZNAME:BST
END:DAYLIGHT
END:VTIMEZONE
END:VCALENDAR