BEGIN:VCALENDAR
VERSION:2.0
PRODID:-//wp-events-plugin.com//7.2.3.1//EN
TZID:Europe/London
X-WR-TIMEZONE:Europe/London
BEGIN:VEVENT
UID:6021@eastgatearts.com
DTSTART;TZID=Europe/London:20250328T193000
DTEND;TZID=Europe/London:20250328T210000
DTSTAMP:20250118T150430Z
URL:https://eastgatearts.com/events/i-dont-talk-to-dead-bodies/
SUMMARY:I Don't Talk To Dead Bodies
DESCRIPTION:Prepare to be intrigued\, amazed and astonished as you join Dr 
 Rhona Morrison on an often funny\, and at times downright bizarre\, though
 t-provoking and eye-opening rollercoaster ride through some of the most cu
 rious encounters of her career as one of Scotland's leading forensic psych
 iatrists.
CATEGORIES:Talk
END:VEVENT
BEGIN:VTIMEZONE
TZID:Europe/London
X-LIC-LOCATION:Europe/London
BEGIN:STANDARD
DTSTART:20241027T010000
TZOFFSETFROM:+0100
TZOFFSETTO:+0000
TZNAME:GMT
END:STANDARD
END:VTIMEZONE
END:VCALENDAR