BEGIN:VCALENDAR
VERSION:2.0
PRODID:-//wp-events-plugin.com//7.2.3.1//EN
TZID:Europe/London
X-WR-TIMEZONE:Europe/London
BEGIN:VEVENT
UID:6753@eastgatearts.com
DTSTART;TZID=Europe/London:20260408T130000
DTEND;TZID=Europe/London:20260408T150000
DTSTAMP:20260305T085648Z
URL:https://eastgatearts.com/events/hoppers-3/
SUMMARY:Hoppers
DESCRIPTION:Scientists have discovered how to 'hop' human consciousness int
 o lifelike robotic animals\, allowing people to communicate with animals a
 s animals. Animal lover Mabel seizes an opportunity to use the technology.
 ..
ATTACH;FMTTYPE=image/jpeg:https://eastgatearts.com/wp-content/uploads/2026
 /03/Hoppers.webp
CATEGORIES:Family,Film
END:VEVENT
BEGIN:VTIMEZONE
TZID:Europe/London
X-LIC-LOCATION:Europe/London
BEGIN:DAYLIGHT
DTSTART:20260329T020000
TZOFFSETFROM:+0000
TZOFFSETTO:+0100
TZNAME:BST
END:DAYLIGHT
END:VTIMEZONE
END:VCALENDAR