BEGIN:VCALENDAR
VERSION:2.0
PRODID:-//wp-events-plugin.com//7.2.3.1//EN
TZID:Europe/London
X-WR-TIMEZONE:Europe/London
BEGIN:VEVENT
UID:5353@eastgatearts.com
DTSTART;TZID=Europe/London:20240316T150000
DTEND;TZID=Europe/London:20240316T163000
DTSTAMP:20240205T132208Z
URL:https://eastgatearts.com/events/going-for-gold-me-and-linford-christie
 -2/
SUMMARY:Going for Gold - Me and Linford Christie
DESCRIPTION:Vickie wants to compete at the Olympics...but she isn’t very 
 good at sport.  This is a play about friendship\, loving failure\, dreamin
 g big\, working out who you are\, your real talents and what makes you hap
 py. \nAge: 8+ 
CATEGORIES:Family,Theatre
END:VEVENT
BEGIN:VTIMEZONE
TZID:Europe/London
X-LIC-LOCATION:Europe/London
BEGIN:STANDARD
DTSTART:20231029T010000
TZOFFSETFROM:+0100
TZOFFSETTO:+0000
TZNAME:GMT
END:STANDARD
END:VTIMEZONE
END:VCALENDAR