BEGIN:VCALENDAR
VERSION:2.0
PRODID:-//wp-events-plugin.com//7.2.3.1//EN
TZID:Europe/London
X-WR-TIMEZONE:Europe/London
BEGIN:VEVENT
UID:6800@eastgatearts.com
DTSTART;TZID=Europe/London:20260520T193000
DTEND;TZID=Europe/London:20260520T213000
DTSTAMP:20260406T115456Z
URL:https://eastgatearts.com/events/glenrothan-3/
SUMMARY:Glenrothan
DESCRIPTION:After 35 years in Chicago\, Donal reluctantly returns to the Sc
 ottish Highlands to reconcile with his estranged older brother Sandy. Sand
 y needs Donal to take over the family's whisky distillery or he'll be forc
 ed to sell and give up on the family's legacy
ATTACH;FMTTYPE=image/jpeg:https://eastgatearts.com/wp-content/uploads/2026
 /04/Glenrothan-scaled.jpg
CATEGORIES:Film
END:VEVENT
BEGIN:VTIMEZONE
TZID:Europe/London
X-LIC-LOCATION:Europe/London
BEGIN:DAYLIGHT
DTSTART:20260329T020000
TZOFFSETFROM:+0000
TZOFFSETTO:+0100
TZNAME:BST
END:DAYLIGHT
END:VTIMEZONE
END:VCALENDAR