BEGIN:VCALENDAR
VERSION:2.0
PRODID:-//wp-events-plugin.com//7.2.3.1//EN
TZID:Europe/London
X-WR-TIMEZONE:Europe/London
BEGIN:VEVENT
UID:6712@eastgatearts.com
DTSTART;TZID=Europe/London:20260326T103000
DTEND;TZID=Europe/London:20260326T111500
DTSTAMP:20260226T103934Z
URL:https://eastgatearts.com/events/fitsteps-44/
SUMMARY:FitSteps
DESCRIPTION:This is a high energy\, up-beat dance fitness class designed to
  give real measurable fitness results- but you'll have so much fun you won
 't even realise you're getting fit!
ATTACH;FMTTYPE=image/jpeg:https://eastgatearts.com/wp-content/uploads/2023
 /12/Alex-Fitsteps-845.jpg
CATEGORIES:FitSteps,Take Part
END:VEVENT
BEGIN:VTIMEZONE
TZID:Europe/London
X-LIC-LOCATION:Europe/London
BEGIN:STANDARD
DTSTART:20251026T010000
TZOFFSETFROM:+0100
TZOFFSETTO:+0000
TZNAME:GMT
END:STANDARD
END:VTIMEZONE
END:VCALENDAR