BEGIN:VCALENDAR
VERSION:2.0
PRODID:-//wp-events-plugin.com//7.2.3.1//EN
TZID:Europe/London
X-WR-TIMEZONE:Europe/London
BEGIN:VEVENT
UID:6774@eastgatearts.com
DTSTART;TZID=Europe/London:20260530T143000
DTEND;TZID=Europe/London:20260530T163000
DTSTAMP:20260310T071638Z
URL:https://eastgatearts.com/events/fhsd-junior-show-believe/
SUMMARY:FHSD Junior Show - Believe!
DESCRIPTION:Fiona Henderson School of Dance is delighted to present its 202
 6 Junior School Show ‘Believe’. Their wonderful dancers will be perfor
 ming a wide range of dance styles including Ballet\, Contemporary\, Jazz\,
  Tap\, Highland\, Street\, Acro and Modern.
ATTACH;FMTTYPE=image/jpeg:https://eastgatearts.com/wp-content/uploads/2026
 /03/2026-FHSD-Junior-show.jpg
CATEGORIES:Community,Dance
END:VEVENT
BEGIN:VTIMEZONE
TZID:Europe/London
X-LIC-LOCATION:Europe/London
BEGIN:DAYLIGHT
DTSTART:20260329T020000
TZOFFSETFROM:+0000
TZOFFSETTO:+0100
TZNAME:BST
END:DAYLIGHT
END:VTIMEZONE
END:VCALENDAR