BEGIN:VCALENDAR
VERSION:2.0
PRODID:-//wp-events-plugin.com//7.2.3.1//EN
TZID:Europe/London
X-WR-TIMEZONE:Europe/London
BEGIN:VEVENT
UID:5839@eastgatearts.com
DTSTART;TZID=Europe/London:20241010T173000
DTEND;TZID=Europe/London:20241010T190000
DTSTAMP:20240914T112652Z
URL:https://eastgatearts.com/events/drumming-workshop-with-el-guapo-and-tw
 elfth-day/
SUMMARY:Drumming Workshop with El Guapo and Twelfth Day
DESCRIPTION:Join Argentinian duo El Guapo and Scottish duo Twelfth Day to e
 xplore traditional Argentinian rhythms\, with a chance to practice the arr
 angement that the musicians will play during their evening performance.
ATTACH;FMTTYPE=image/jpeg:https://eastgatearts.com/wp-content/uploads/2024
 /09/drums-845.jpg
CATEGORIES:Take Part
END:VEVENT
BEGIN:VTIMEZONE
TZID:Europe/London
X-LIC-LOCATION:Europe/London
BEGIN:DAYLIGHT
DTSTART:20240331T020000
TZOFFSETFROM:+0000
TZOFFSETTO:+0100
TZNAME:BST
END:DAYLIGHT
END:VTIMEZONE
END:VCALENDAR