BEGIN:VCALENDAR
VERSION:2.0
PRODID:-//wp-events-plugin.com//7.2.3.1//EN
TZID:Europe/London
X-WR-TIMEZONE:Europe/London
BEGIN:VEVENT
UID:6049@eastgatearts.com
DTSTART;TZID=Europe/London:20250518T130000
DTEND;TZID=Europe/London:20250518T143000
DTSTAMP:20250124T155913Z
URL:https://eastgatearts.com/events/dawn-of-impressionism-paris-1874/
SUMMARY:Dawn of Impressionism: Paris 1874
DESCRIPTION:The Impressionists are the most popular group in art history - 
 millions flock every year to marvel at their masterpieces. But\, to begin 
 with\, they were scorned\, penniless outsiders.
CATEGORIES:Art,Event Cinema,Film
END:VEVENT
BEGIN:VTIMEZONE
TZID:Europe/London
X-LIC-LOCATION:Europe/London
BEGIN:DAYLIGHT
DTSTART:20250330T020000
TZOFFSETFROM:+0000
TZOFFSETTO:+0100
TZNAME:BST
END:DAYLIGHT
END:VTIMEZONE
END:VCALENDAR