BEGIN:VCALENDAR
VERSION:2.0
PRODID:-//wp-events-plugin.com//7.2.3.1//EN
TZID:Europe/London
X-WR-TIMEZONE:Europe/London
BEGIN:VEVENT
UID:6778@eastgatearts.com
DTSTART;TZID=Europe/London:20261124T193000
DTEND;TZID=Europe/London:20261124T213000
DTSTAMP:20260325T162003Z
URL:https://eastgatearts.com/events/danny-hart-wont-sit-down/
SUMMARY:Danny Hart - Won't Sit Down
DESCRIPTION:Danny Hart is one of Downhill Mountain Biking’s racing elite\
 ; 2x World Champion\, Red Bull Hardline winner\, multiple National Champio
 nships winner and 2x World Cup overall silver medal winner\, the ‘Redcar
  Rocket’ has secured his place in mountain biking history\, including an
  iconic first World Championship winning run that is still legendary today
 . 
ATTACH;FMTTYPE=image/jpeg:https://eastgatearts.com/wp-content/uploads/2026
 /03/DH-1-MAIN-IMAGE.jpg
CATEGORIES:Talk
END:VEVENT
BEGIN:VTIMEZONE
TZID:Europe/London
X-LIC-LOCATION:Europe/London
BEGIN:STANDARD
DTSTART:20261025T010000
TZOFFSETFROM:+0100
TZOFFSETTO:+0000
TZNAME:GMT
END:STANDARD
END:VTIMEZONE
END:VCALENDAR