BEGIN:VCALENDAR
VERSION:2.0
PRODID:-//wp-events-plugin.com//7.2.3.1//EN
TZID:Europe/London
X-WR-TIMEZONE:Europe/London
BEGIN:VEVENT
UID:6431@eastgatearts.com
DTSTART;TZID=Europe/London:20260507T193000
DTEND;TZID=Europe/London:20260507T213000
DTSTAMP:20260226T113505Z
URL:https://eastgatearts.com/events/damian-hall-running-forever/
SUMMARY:Damian Hall - Running Forever
DESCRIPTION:Damian Hall is an ultrarunner\, coach\, author\, climate activ
 ist and tea addict. In his first theatre tour\, Damian – aka UltraDamo 
 – will deliver stories of breaking long-distance running records and re
 presenting Great Britain\, to running marathons dressed as a​ toilet an
 d near-fatal mishaps. How to keep running long and strong and how our best
  years could still be ahead of us.
ATTACH;FMTTYPE=image/jpeg:https://eastgatearts.com/wp-content/uploads/2025
 /07/MAIN-TOUR-IMAGE.jpeg
CATEGORIES:Talk
END:VEVENT
BEGIN:VTIMEZONE
TZID:Europe/London
X-LIC-LOCATION:Europe/London
BEGIN:DAYLIGHT
DTSTART:20260329T020000
TZOFFSETFROM:+0000
TZOFFSETTO:+0100
TZNAME:BST
END:DAYLIGHT
END:VTIMEZONE
END:VCALENDAR