BEGIN:VCALENDAR
VERSION:2.0
PRODID:-//wp-events-plugin.com//7.2.3.1//EN
TZID:Europe/London
X-WR-TIMEZONE:Europe/London
BEGIN:VEVENT
UID:5715@eastgatearts.com
DTSTART;TZID=Europe/London:20241129T193000
DTEND;TZID=Europe/London:20241129T213000
DTSTAMP:20240826T200737Z
URL:https://eastgatearts.com/events/craig-hill-ive-been-sitting-on-this-fo
 r-a-while/
SUMMARY:Craig Hill – I’ve Been Sitting on This for a While!
DESCRIPTION:Don’t miss this unfiltered and hilarious evening with Scotlan
 d’s favourite high octane Kilty Pleasure as Craig brings his new show to
  the Eastgate.  Stand-up comedy\, dancing and everything you ever thought
 \, but never said out loud!
CATEGORIES:Comedy
END:VEVENT
BEGIN:VTIMEZONE
TZID:Europe/London
X-LIC-LOCATION:Europe/London
BEGIN:STANDARD
DTSTART:20241027T010000
TZOFFSETFROM:+0100
TZOFFSETTO:+0000
TZNAME:GMT
END:STANDARD
END:VTIMEZONE
END:VCALENDAR