BEGIN:VCALENDAR
VERSION:2.0
PRODID:-//wp-events-plugin.com//7.2.3.1//EN
TZID:Europe/London
X-WR-TIMEZONE:Europe/London
BEGIN:VEVENT
UID:5774@eastgatearts.com
DTSTART;TZID=Europe/London:20240909T201500
DTEND;TZID=Europe/London:20241007T213000
DTSTAMP:20240831T133329Z
URL:https://eastgatearts.com/events/contemporary-dance/
SUMMARY:Contemporary Dance
DESCRIPTION:This class focuses on building strong technique and fluid movem
 ent. Working towards creating completed pieces of choreography.
CATEGORIES:Take Part
END:VEVENT
BEGIN:VTIMEZONE
TZID:Europe/London
X-LIC-LOCATION:Europe/London
BEGIN:DAYLIGHT
DTSTART:20240331T020000
TZOFFSETFROM:+0000
TZOFFSETTO:+0100
TZNAME:BST
END:DAYLIGHT
END:VTIMEZONE
END:VCALENDAR