BEGIN:VCALENDAR
VERSION:2.0
PRODID:-//wp-events-plugin.com//7.2.3.1//EN
TZID:Europe/London
X-WR-TIMEZONE:Europe/London
BEGIN:VEVENT
UID:5834@eastgatearts.com
DTSTART;TZID=Europe/London:20241116T100000
DTEND;TZID=Europe/London:20241116T130000
DTSTAMP:20240906T204150Z
URL:https://eastgatearts.com/events/contemporary-dance-workshop-2/
SUMMARY:Contemporary Dance Workshop
DESCRIPTION:Sara Boles invites everyone to acknowledge what the body is cap
 able of expressing by exploring the power of improvisation.
CATEGORIES:Take Part
END:VEVENT
BEGIN:VTIMEZONE
TZID:Europe/London
X-LIC-LOCATION:Europe/London
BEGIN:STANDARD
DTSTART:20241027T010000
TZOFFSETFROM:+0100
TZOFFSETTO:+0000
TZNAME:GMT
END:STANDARD
END:VTIMEZONE
END:VCALENDAR