BEGIN:VCALENDAR
VERSION:2.0
PRODID:-//wp-events-plugin.com//7.2.3.1//EN
TZID:Europe/London
X-WR-TIMEZONE:Europe/London
BEGIN:VEVENT
UID:6747@eastgatearts.com
DTSTART;TZID=Europe/London:20260416T100000
DTEND;TZID=Europe/London:20260416T120000
DTSTAMP:20260305T092458Z
URL:https://eastgatearts.com/events/bluey-playdates-with-friends-2/
SUMMARY:Bluey: Playdates with Friends
DESCRIPTION:A compilation of eight episodes from across the show’s three 
 series\, united around themes of play\, friendship and family.
ATTACH;FMTTYPE=image/jpeg:https://eastgatearts.com/wp-content/uploads/2026
 /03/Bluey-scaled.webp
CATEGORIES:Family,Film
END:VEVENT
BEGIN:VTIMEZONE
TZID:Europe/London
X-LIC-LOCATION:Europe/London
BEGIN:DAYLIGHT
DTSTART:20260329T020000
TZOFFSETFROM:+0000
TZOFFSETTO:+0100
TZNAME:BST
END:DAYLIGHT
END:VTIMEZONE
END:VCALENDAR