BEGIN:VCALENDAR
VERSION:2.0
PRODID:-//wp-events-plugin.com//7.2.3.1//EN
TZID:Europe/London
X-WR-TIMEZONE:Europe/London
BEGIN:VEVENT
UID:6666@eastgatearts.com
DTSTART;TZID=Europe/London:20261027T193000
DTEND;TZID=Europe/London:20261027T213000
DTSTAMP:20260226T114625Z
URL:https://eastgatearts.com/events/barbara-dickson/
SUMMARY:Barbara Dickson
DESCRIPTION:In this special semi-acoustic performance\, Barbara Dickson and
  her pianist Nick Holland explore her catalogue of songs at an intimate le
 vel. 
ATTACH;FMTTYPE=image/jpeg:https://eastgatearts.com/wp-content/uploads/2025
 /12/BD-2026-1920x1080-Banner.jpg
CATEGORIES:Music
END:VEVENT
BEGIN:VTIMEZONE
TZID:Europe/London
X-LIC-LOCATION:Europe/London
BEGIN:STANDARD
DTSTART:20261025T010000
TZOFFSETFROM:+0100
TZOFFSETTO:+0000
TZNAME:GMT
END:STANDARD
END:VTIMEZONE
END:VCALENDAR