BEGIN:VCALENDAR
VERSION:2.0
PRODID:-//wp-events-plugin.com//7.2.3.1//EN
TZID:Europe/London
X-WR-TIMEZONE:Europe/London
BEGIN:VEVENT
UID:5980@eastgatearts.com
DTSTART;TZID=Europe/London:20250308T100000
DTEND;TZID=Europe/London:20250308T130000
DTSTAMP:20241213T115008Z
URL:https://eastgatearts.com/events/ballet_saturday_march/
SUMMARY:Ballet Saturday Workshop (March)
DESCRIPTION:Special three hour long ballet workshop with Sara Boles.
ATTACH;FMTTYPE=image/jpeg:https://eastgatearts.com/wp-content/uploads/2024
 /11/intro-ballet-take-part-2024.jpg
CATEGORIES:Dance with Sara Boles,Take Part
END:VEVENT
BEGIN:VTIMEZONE
TZID:Europe/London
X-LIC-LOCATION:Europe/London
BEGIN:STANDARD
DTSTART:20241027T010000
TZOFFSETFROM:+0100
TZOFFSETTO:+0000
TZNAME:GMT
END:STANDARD
END:VTIMEZONE
END:VCALENDAR