BEGIN:VCALENDAR
VERSION:2.0
PRODID:-//wp-events-plugin.com//7.2.3.1//EN
TZID:Europe/London
X-WR-TIMEZONE:Europe/London
BEGIN:VEVENT
UID:5895@eastgatearts.com
DTSTART;TZID=Europe/London:20241119T110000
DTEND;TZID=Europe/London:20241217T120100
DTSTAMP:20241111T181949Z
URL:https://eastgatearts.com/events/ballet-tuesdays-4/
SUMMARY:Ballet (Tuesdays)
DESCRIPTION:Improve balance\, strength and control by building technique an
 d add lyrical expression to beautiful music.
ATTACH;FMTTYPE=image/jpeg:https://eastgatearts.com/wp-content/uploads/2024
 /11/intro-ballet-take-part-2024.jpg
CATEGORIES:Take Part
END:VEVENT
BEGIN:VTIMEZONE
TZID:Europe/London
X-LIC-LOCATION:Europe/London
BEGIN:STANDARD
DTSTART:20241027T010000
TZOFFSETFROM:+0100
TZOFFSETTO:+0000
TZNAME:GMT
END:STANDARD
END:VTIMEZONE
END:VCALENDAR