BEGIN:VCALENDAR
VERSION:2.0
PRODID:-//wp-events-plugin.com//7.2.3.1//EN
TZID:Europe/London
X-WR-TIMEZONE:Europe/London
BEGIN:VEVENT
UID:5773@eastgatearts.com
DTSTART;TZID=Europe/London:20240909T190000
DTEND;TZID=Europe/London:20241007T201500
DTSTAMP:20240831T135131Z
URL:https://eastgatearts.com/events/ballet-monday/
SUMMARY:Ballet (Monday)
DESCRIPTION:A rigorous class combining both classical and modern ballet tec
 hniques. No experience\, limited experience or lots of experience of balle
 t\, everyone is welcome.
CATEGORIES:Take Part
END:VEVENT
BEGIN:VTIMEZONE
TZID:Europe/London
X-LIC-LOCATION:Europe/London
BEGIN:DAYLIGHT
DTSTART:20240331T020000
TZOFFSETFROM:+0000
TZOFFSETTO:+0100
TZNAME:BST
END:DAYLIGHT
END:VTIMEZONE
END:VCALENDAR