BEGIN:VCALENDAR
VERSION:2.0
PRODID:-//wp-events-plugin.com//7.2.3.1//EN
TZID:Europe/London
X-WR-TIMEZONE:Europe/London
BEGIN:VEVENT
UID:6399@eastgatearts.com
DTSTART;TZID=Europe/London:20251205T094500
DTEND;TZID=Europe/London:20251219T104500
DTSTAMP:20251029T163636Z
URL:https://eastgatearts.com/events/ballet-fridays-block-4/
SUMMARY:Ballet || Friday || Block 4
DESCRIPTION:Improve balance\, strength and control by building technique an
 d add lyrical expression to beautiful music.
ATTACH;FMTTYPE=image/jpeg:https://eastgatearts.com/wp-content/uploads/2025
 /03/85c9105e-ba01-4ab1-ab5f-8b1018f7e3c0.jpg
CATEGORIES:Dance with Sara Boles,Take Part
END:VEVENT
BEGIN:VTIMEZONE
TZID:Europe/London
X-LIC-LOCATION:Europe/London
BEGIN:STANDARD
DTSTART:20251026T010000
TZOFFSETFROM:+0100
TZOFFSETTO:+0000
TZNAME:GMT
END:STANDARD
END:VTIMEZONE
END:VCALENDAR