BEGIN:VCALENDAR
VERSION:2.0
PRODID:-//wp-events-plugin.com//7.2.3.1//EN
TZID:Europe/London
X-WR-TIMEZONE:Europe/London
BEGIN:VEVENT
UID:5779@eastgatearts.com
DTSTART;TZID=Europe/London:20240913T214500
DTEND;TZID=Europe/London:20241011T224500
DTSTAMP:20240831T171231Z
URL:https://eastgatearts.com/events/ballet-fridays-3/
SUMMARY:Ballet (Fridays)
DESCRIPTION:Improve balance\, strength and control by building technique an
 d add lyrical expression to beautiful music.
ATTACH;FMTTYPE=image/jpeg:https://eastgatearts.com/wp-content/uploads/2023
 /12/Jazz-845.jpg
CATEGORIES:Take Part
END:VEVENT
BEGIN:VTIMEZONE
TZID:Europe/London
X-LIC-LOCATION:Europe/London
BEGIN:DAYLIGHT
DTSTART:20240331T020000
TZOFFSETFROM:+0000
TZOFFSETTO:+0100
TZNAME:BST
END:DAYLIGHT
END:VTIMEZONE
END:VCALENDAR