BEGIN:VCALENDAR
VERSION:2.0
PRODID:-//wp-events-plugin.com//7.2.3.1//EN
TZID:Europe/London
X-WR-TIMEZONE:Europe/London
BEGIN:VEVENT
UID:6781@eastgatearts.com
DTSTART;TZID=Europe/London:20260926T193000
DTEND;TZID=Europe/London:20260926T213000
DTSTAMP:20260312T092032Z
URL:https://eastgatearts.com/events/alex-mcaleer-mind-reader/
SUMMARY:Alex McAleer - Mind Reader
DESCRIPTION:Alex McAleer isn’t psychic\, but he can apparently tap into h
 is audience’s minds. With sell-out shows worldwide\, West End appearance
 s\, he has built a reputation as a charismatic\, laugh-outloud entertaine
 r. Interactive\, astonishing\, and playful\, this show turns the audience 
 into the stars.
ATTACH;FMTTYPE=image/jpeg:https://eastgatearts.com/wp-content/uploads/2026
 /03/1080-x-960-Banner.png
CATEGORIES:Variety
END:VEVENT
BEGIN:VTIMEZONE
TZID:Europe/London
X-LIC-LOCATION:Europe/London
BEGIN:DAYLIGHT
DTSTART:20260329T020000
TZOFFSETFROM:+0000
TZOFFSETTO:+0100
TZNAME:BST
END:DAYLIGHT
END:VTIMEZONE
END:VCALENDAR