BEGIN:VCALENDAR
VERSION:2.0
PRODID:-//wp-events-plugin.com//7.2.3.1//EN
TZID:Europe/London
X-WR-TIMEZONE:Europe/London
BEGIN:VEVENT
UID:6430@eastgatearts.com
DTSTART;TZID=Europe/London:20260611T193000
DTEND;TZID=Europe/London:20260611T213000
DTSTAMP:20260226T113924Z
URL:https://eastgatearts.com/events/adriana-brownlee-death-zone/
SUMMARY:Adriana Brownlee - Death Zone
DESCRIPTION:Adriana will take you on a journey through one of the most host
 ile environments in the world\, where no life can survive\, and share stor
 ies of near death experiences\, highs and lows of her mountaineering journ
 ey and everything in between.
ATTACH;FMTTYPE=image/jpeg:https://eastgatearts.com/wp-content/uploads/2025
 /07/MAIN-TOUR-IMAGE-scaled.jpg
CATEGORIES:Talk
END:VEVENT
BEGIN:VTIMEZONE
TZID:Europe/London
X-LIC-LOCATION:Europe/London
BEGIN:DAYLIGHT
DTSTART:20260329T020000
TZOFFSETFROM:+0000
TZOFFSETTO:+0100
TZNAME:BST
END:DAYLIGHT
END:VTIMEZONE
END:VCALENDAR