BEGIN:VCALENDAR
VERSION:2.0
PRODID:-//wp-events-plugin.com//7.2.3.1//EN
TZID:Europe/London
X-WR-TIMEZONE:Europe/London
BEGIN:VEVENT
UID:6168@eastgatearts.com
DTSTART;TZID=Europe/London:20250802T130000
DTEND;TZID=Europe/London:20250802T160000
DTSTAMP:20250405T095709Z
URL:https://eastgatearts.com/events/a-streetcar-named-desire-15-2/
SUMMARY:A Streetcar Named Desire (15)
DESCRIPTION:Gillian Anderson (Sex Education)\, Vanessa Kirby (The Crown)\, 
 and Ben Foster (Lone Survivor) lead the cast in Tennessee Williams’ time
 less masterpiece\, returning to cinemas.
ATTACH;FMTTYPE=image/jpeg:https://eastgatearts.com/wp-content/uploads/2025
 /04/NTL-2025-A-Streetcar-Named-Desire-Cinema-Listings-Landscape.jpg
CATEGORIES:Event Cinema,Film,Theatre,Theatre on Screen
END:VEVENT
BEGIN:VTIMEZONE
TZID:Europe/London
X-LIC-LOCATION:Europe/London
BEGIN:DAYLIGHT
DTSTART:20250330T020000
TZOFFSETFROM:+0000
TZOFFSETTO:+0100
TZNAME:BST
END:DAYLIGHT
END:VTIMEZONE
END:VCALENDAR