BEGIN:VCALENDAR
VERSION:2.0
PRODID:-//wp-events-plugin.com//7.2.3.1//EN
TZID:Europe/London
X-WR-TIMEZONE:Europe/London
BEGIN:VEVENT
UID:6494@eastgatearts.com
DTSTART;TZID=Europe/London:20251105T130000
DTEND;TZID=Europe/London:20251105T150000
DTSTAMP:20250819T101246Z
URL:https://eastgatearts.com/events/a-big-bold-beautiful-journey-12a/
SUMMARY:A Big\, Bold\, Beautiful Journey (12A)
DESCRIPTION:Two strangers meet at a wedding and embark on a magical\, memor
 y-hopping road trip changing their futures.
ATTACH;FMTTYPE=image/jpeg:https://eastgatearts.com/wp-content/uploads/2025
 /08/A-Big-Bold-Beautiful-Journey-scaled.jpg
CATEGORIES:Film
END:VEVENT
BEGIN:VTIMEZONE
TZID:Europe/London
X-LIC-LOCATION:Europe/London
BEGIN:STANDARD
DTSTART:20251026T010000
TZOFFSETFROM:+0100
TZOFFSETTO:+0000
TZNAME:GMT
END:STANDARD
END:VTIMEZONE
END:VCALENDAR